BEGIN:VCALENDAR
VERSION:2.0
PRODID:-//Burleigh Point Outrigger Canoe Club - ECPv3.12.3//NONSGML v1.0//EN
CALSCALE:GREGORIAN
METHOD:PUBLISH
X-WR-CALNAME:Burleigh Point Outrigger Canoe Club
X-ORIGINAL-URL:http://www.burleighoutrigger.com.au
X-WR-CALDESC:Events for Burleigh Point Outrigger Canoe Club
BEGIN:VEVENT
DTSTART;VALUE=DATE:20160519
DTEND;VALUE=DATE:20160522
DTSTAMP:20190301T073812Z
CREATED:20131015T042651Z
LAST-MODIFIED:20150609T140938Z
UID:116-1463666400-1463925599@www.burleighoutrigger.com.au
SUMMARY:OC6 National Marathon Titles: Mooloolaba
DESCRIPTION:
URL:http://www.burleighoutrigger.com.au/event/oc6-national-marathon-titles-mooloolaba/
CATEGORIES:OC 6 Events
END:VEVENT
END:VCALENDAR