BEGIN:VCALENDAR
VERSION:2.0
PRODID:-//Burleigh Point Outrigger Canoe Club - ECPv3.12.3//NONSGML v1.0//EN
CALSCALE:GREGORIAN
METHOD:PUBLISH
X-WR-CALNAME:Burleigh Point Outrigger Canoe Club
X-ORIGINAL-URL:http://www.burleighoutrigger.com.au
X-WR-CALDESC:Events for Burleigh Point Outrigger Canoe Club
BEGIN:VEVENT
DTSTART;VALUE=DATE:20160422
DTEND;VALUE=DATE:20160423
DTSTAMP:20190301T074006Z
CREATED:20150609T135337Z
LAST-MODIFIED:20150609T135337Z
UID:970-1461333600-1461419999@www.burleighoutrigger.com.au
SUMMARY:SQ Zone OC6 Sprint Regatta
DESCRIPTION:
URL:http://www.burleighoutrigger.com.au/event/sq-zone-oc6-sprint-regatta-3/
CATEGORIES:OC 6 Events
END:VEVENT
END:VCALENDAR