BEGIN:VCALENDAR
VERSION:2.0
PRODID:-//Burleigh Point Outrigger Canoe Club - ECPv3.12.3//NONSGML v1.0//EN
CALSCALE:GREGORIAN
METHOD:PUBLISH
X-WR-CALNAME:Burleigh Point Outrigger Canoe Club
X-ORIGINAL-URL:http://www.burleighoutrigger.com.au
X-WR-CALDESC:Events for Burleigh Point Outrigger Canoe Club
BEGIN:VEVENT
DTSTART;VALUE=DATE:20160408
DTEND;VALUE=DATE:20160409
DTSTAMP:20190301T073958Z
CREATED:20150609T135240Z
LAST-MODIFIED:20150609T135240Z
UID:969-1460124000-1460210399@www.burleighoutrigger.com.au
SUMMARY:SQ Zone OC6 Sprint Regatta
DESCRIPTION:
URL:http://www.burleighoutrigger.com.au/event/sq-zone-oc6-sprint-regatta-2/
CATEGORIES:OC 6 Events
END:VEVENT
END:VCALENDAR