BEGIN:VCALENDAR
VERSION:2.0
PRODID:-//Burleigh Point Outrigger Canoe Club - ECPv3.12.3//NONSGML v1.0//EN
CALSCALE:GREGORIAN
METHOD:PUBLISH
X-WR-CALNAME:Burleigh Point Outrigger Canoe Club
X-ORIGINAL-URL:http://www.burleighoutrigger.com.au
X-WR-CALDESC:Events for Burleigh Point Outrigger Canoe Club
BEGIN:VEVENT
DTSTART;VALUE=DATE:20160401
DTEND;VALUE=DATE:20160403
DTSTAMP:20190301T073942Z
CREATED:20141115T081624Z
LAST-MODIFIED:20150609T141856Z
UID:935-1459519200-1459691999@www.burleighoutrigger.com.au
SUMMARY:Gold Coast Cup 2016
DESCRIPTION:
URL:http://www.burleighoutrigger.com.au/event/national-series-race-5-gold-coast-cup/
LOCATION:Muriel Henchman Drive\, Main Beach\, Australia
CATEGORIES:OC 6 Events
END:VEVENT
END:VCALENDAR